BEGIN:VCALENDAR
VERSION:2.0
PRODID:-//Resolian - ECPv6.15.17.1//NONSGML v1.0//EN
CALSCALE:GREGORIAN
METHOD:PUBLISH
X-WR-CALNAME:Resolian
X-ORIGINAL-URL:https://www.resolian.com
X-WR-CALDESC:Events for Resolian
REFRESH-INTERVAL;VALUE=DURATION:PT1H
X-Robots-Tag:noindex
X-PUBLISHED-TTL:PT1H
BEGIN:VTIMEZONE
TZID:UTC
BEGIN:STANDARD
TZOFFSETFROM:+0000
TZOFFSETTO:+0000
TZNAME:UTC
DTSTART:20250101T000000
END:STANDARD
END:VTIMEZONE
BEGIN:VEVENT
DTSTART;VALUE=DATE:20260518
DTEND;VALUE=DATE:20260520
DTSTAMP:20260423T165530
CREATED:20250723T120308Z
LAST-MODIFIED:20260415T093437Z
UID:9075-1779062400-1779235199@www.resolian.com
SUMMARY:JPAG & CHROM SOCSPRING SYMPOSIUM
DESCRIPTION:Resolian is exhibiting at Joint Pharmaceutical Analysis Group. \nThe Chromatographic (Analytical) Method Life Cycle (2026): From Cradle to Grave III / ChromSoc Spring Symposium \nJoin us.
URL:https://www.resolian.com/event/jpag-event/
LOCATION:Royal Society of Chemistry\, Burlington House\, Piccadilly\, London\, W1J 0BA\, United Kingdom
CATEGORIES:Analytical Sciences
ATTACH;FMTTYPE=image/jpeg:https://www.resolian.com/wp-content/uploads/2025/07/JPAG-Title-1.jpg
END:VEVENT
END:VCALENDAR